8.000000000
0.000000
0.000000
-8.000000000
521202.22905935
158597.69179077
