8.000000000
0.000000
0.000000
-8.000000000
520944.85632607
158552.80495784
