8.000000000
0.000000
0.000000
-8.000000000
520938.16556549
158545.78810112
