8.000000000
0.000000
0.000000
-8.000000000
520945.92413395
158519.74956477
