8.000000000
0.000000
0.000000
-8.000000000
520944.41407494
158518.22487068
