8.000000000
0.000000
0.000000
-8.000000000
518304.83863316
158228.92983608
