8.000000000
0.000000
0.000000
-8.000000000
518296.06023135
158225.34027894
