8.000000000
0.000000
0.000000
-8.000000000
518292.74813845
158216.42879831
