8.000000000
0.000000
0.000000
-8.000000000
518287.15932281
158212.48827249
