8.000000000
0.000000
0.000000
-8.000000000
517481.67310145
158220.41491253
