8.000000000
0.000000
0.000000
-8.000000000
517475.55739142
158193.01311478
