8.000000000
0.000000
0.000000
-8.000000000
517487.05320782
158176.80179278
