8.000000000
0.000000
0.000000
-8.000000000
517473.45556840
158179.14504576
