8.000000000
0.000000
0.000000
-8.000000000
516749.70200348
158200.28215325
