8.000000000
0.000000
0.000000
-8.000000000
516742.27151746
158186.17733024
