8.000000000
0.000000
0.000000
-8.000000000
516745.11567150
158160.19948246
