8.000000000
0.000000
0.000000
-8.000000000
516741.62164228
158153.76169872
