8.000000000
0.000000
0.000000
-8.000000000
516391.65169240
158131.62297872
