8.000000000
0.000000
0.000000
-8.000000000
516388.08227703
158135.37694327
