8.000000000
0.000000
0.000000
-8.000000000
516386.77552636
158133.23300509
