8.000000000
0.000000
0.000000
-8.000000000
516395.25938095
158177.89473713
