8.000000000
0.000000
0.000000
-8.000000000
516393.99443333
158178.83827112
