8.000000000
0.000000
0.000000
-8.000000000
516168.96775680
158152.24317909
