8.000000000
0.000000
0.000000
-8.000000000
516176.03926174
158139.79503949
