8.000000000
0.000000
0.000000
-8.000000000
516162.42779385
158109.71698500
