8.000000000
0.000000
0.000000
-8.000000000
516057.84909025
158124.10718790
