8.000000000
0.000000
0.000000
-8.000000000
516060.86348356
158126.53665316
