8.000000000
0.000000
0.000000
-8.000000000
526331.65685781
159680.11058690
