8.000000000
0.000000
0.000000
-8.000000000
522226.62957442
156970.31444508
