8.000000000
0.000000
0.000000
-8.000000000
522239.35261210
156965.83127353
