8.000000000
0.000000
0.000000
-8.000000000
522238.02552172
156995.80147792
