8.000000000
0.000000
0.000000
-8.000000000
522239.17958611
157002.88934834
