8.000000000
0.000000
0.000000
-8.000000000
522416.52870714
156980.28131833
