8.000000000
0.000000
0.000000
-8.000000000
522422.43725918
156975.88401660
