8.000000000
0.000000
0.000000
-8.000000000
522431.52469491
156987.19560213
