8.000000000
0.000000
0.000000
-8.000000000
522430.90906123
156989.05611754
