8.000000000
0.000000
0.000000
-8.000000000
523417.35449205
156962.25065550
