8.000000000
0.000000
0.000000
-8.000000000
523417.55980422
156961.63051696
