8.000000000
0.000000
0.000000
-8.000000000
523421.50004332
156970.22809449
