8.000000000
0.000000
0.000000
-8.000000000
523421.00533281
156964.67584719
