8.000000000
0.000000
0.000000
-8.000000000
524086.58316733
156946.28257296
