8.000000000
0.000000
0.000000
-8.000000000
524085.57899527
156951.23566189
