8.000000000
0.000000
0.000000
-8.000000000
524087.48343217
156967.57858841
