8.000000000
0.000000
0.000000
-8.000000000
524088.74980658
156966.63665644
