8.000000000
0.000000
0.000000
-8.000000000
524762.87567547
157248.36380437
