8.000000000
0.000000
0.000000
-8.000000000
524766.21524947
157242.76483733
