8.000000000
0.000000
0.000000
-8.000000000
524757.08856927
157245.34619658
