8.000000000
0.000000
0.000000
-8.000000000
524756.58489316
157256.46904335
