8.000000000
0.000000
0.000000
-8.000000000
524939.87080560
157337.00076242
