8.000000000
0.000000
0.000000
-8.000000000
524930.18777463
157346.38216419
